BEGIN:VCALENDAR
PRODID:-//punkave//apostrophe 1.x//EN
VERSION:1.0
TZ:0
BEGIN:VEVENT
CATEGORIES:MEETING
DTSTART:20111019T130000Z
DTEND:20111019T040000Z
DTSTAMP:20110804T040000Z
SUMMARY:Toddler Parent Orientation to Primary School Tour
DESCRIPTION:This tour/orientation is for current Toddler parents who have children moving into the Primary program next year.
LOCATION:
UID:574
END:VEVENT
END:VCALENDAR