BEGIN:VCALENDAR
PRODID:-//punkave//apostrophe 1.x//EN
VERSION:1.0
TZ:0
BEGIN:VEVENT
CATEGORIES:MEETING
DTSTART:20111021T040000Z
DTEND:20111023T165959Z
DTSTAMP:20110804T040000Z
SUMMARY:Staff In-service: SCHOOL CLOSED
DESCRIPTION:
LOCATION:
UID:575
END:VEVENT
END:VCALENDAR