BEGIN:VCALENDAR
PRODID:-//punkave//apostrophe 1.x//EN
VERSION:1.0
TZ:0
BEGIN:VEVENT
CATEGORIES:MEETING
DTSTART:20111025T121500Z
DTEND:20111025T130000Z
DTSTAMP:20110808T040000Z
SUMMARY:Coffee with Michelle Pysher
DESCRIPTION:Come enjoy coffee and refreshments with Mrs. Pysher!
LOCATION:
UID:576
END:VEVENT
END:VCALENDAR