BEGIN:VCALENDAR
PRODID:-//punkave//apostrophe 1.x//EN
VERSION:1.0
TZ:0
BEGIN:VEVENT
CATEGORIES:MEETING
DTSTART:20111025T040000Z
DTEND:20111027T165959Z
DTSTAMP:20110808T040000Z
SUMMARY:Kindergarten Lunch Around the World: Mediterranean
DESCRIPTION:Ms. Prestas and Ms. Matsukevich\'s K classes have lunch LATW this day.
LOCATION:
UID:577
END:VEVENT
END:VCALENDAR