BEGIN:VCALENDAR
PRODID:-//punkave//apostrophe 1.x//EN
VERSION:1.0
TZ:0
BEGIN:VEVENT
CATEGORIES:MEETING
DTSTART:20111026T040000Z
DTEND:20111028T165959Z
DTSTAMP:20110808T040000Z
SUMMARY:Admissions Open House
DESCRIPTION:To rsvp to this parent-only evening, please call 215-563-6368.
LOCATION:
UID:578
END:VEVENT
END:VCALENDAR