BEGIN:VCALENDAR
PRODID:-//punkave//apostrophe 1.x//EN
VERSION:1.0
TZ:0
BEGIN:VEVENT
CATEGORIES:MEETING
DTSTART:20111027T121500Z
DTEND:20111027T130000Z
DTSTAMP:20110808T040000Z
SUMMARY:Coffee with Jennifer Coulter
DESCRIPTION:Come enjoy coffee and refreshments with Ms. Coulter!
LOCATION:
UID:579
END:VEVENT
END:VCALENDAR