BEGIN:VCALENDAR
PRODID:-//punkave//apostrophe 1.x//EN
VERSION:1.0
TZ:0
BEGIN:VEVENT
CATEGORIES:MEETING
DTSTART:20111027T040000Z
DTEND:20111029T165959Z
DTSTAMP:20110808T040000Z
SUMMARY:Kindergarten Lunch Around the World: Mediterranean
DESCRIPTION:Ms. Coulter and Mrs. Pysher\'s K classes have lunch this day.
LOCATION:
UID:580
END:VEVENT
END:VCALENDAR