BEGIN:VCALENDAR
PRODID:-//punkave//apostrophe 1.x//EN
VERSION:1.0
TZ:0
BEGIN:VEVENT
CATEGORIES:MEETING
DTSTART:20111101T121500Z
DTEND:20111101T130000Z
DTSTAMP:20110808T040000Z
SUMMARY:Coffee with Michelle Nowacky
DESCRIPTION:Come enjoy coffee and refreshments with Michelle!
LOCATION:
UID:581
END:VEVENT
END:VCALENDAR