BEGIN:VCALENDAR
PRODID:-//punkave//apostrophe 1.x//EN
VERSION:1.0
TZ:0
BEGIN:VEVENT
CATEGORIES:MEETING
DTSTART:20111102T121500Z
DTEND:20111102T130000Z
DTSTAMP:20110808T040000Z
SUMMARY:Coffee with Heather Sundquist
DESCRIPTION:Come enjoy coffee and refreshments with Heather!
LOCATION:
UID:582
END:VEVENT
END:VCALENDAR