BEGIN:VCALENDAR
PRODID:-//punkave//apostrophe 1.x//EN
VERSION:1.0
TZ:0
BEGIN:VEVENT
CATEGORIES:MEETING
DTSTART:20111103T121500Z
DTEND:20111103T130000Z
DTSTAMP:20110808T040000Z
SUMMARY:First Thursday Coffee with Helena Grady
DESCRIPTION:TOPIC: Holidays and children Every First Thursday of the month, discuss a new subject in a relaxed group forum with Helena Grady, Head of School!
LOCATION:
UID:583
END:VEVENT
END:VCALENDAR