BEGIN:VCALENDAR
PRODID:-//punkave//apostrophe 1.x//EN
VERSION:1.0
TZ:0
BEGIN:VEVENT
CATEGORIES:MEETING
DTSTART:20111104T213000Z
DTEND:20111104T233000Z
DTSTAMP:20110808T040000Z
SUMMARY:Fall Parent Social
DESCRIPTION:See you at Cherry Street Tavern at 5:30! Cost is $20.
LOCATION:
UID:585
END:VEVENT
END:VCALENDAR