BEGIN:VCALENDAR
PRODID:-//punkave//apostrophe 1.x//EN
VERSION:1.0
TZ:0
BEGIN:VEVENT
CATEGORIES:MEETING
DTSTART:20111104T154500Z
DTEND:20111104T160000Z
DTSTAMP:20110808T040000Z
SUMMARY:Staff In-service: SCHOOL DISMISSED AT 11:45
DESCRIPTION:There are no afternoon programs or child care.
LOCATION:
UID:584
END:VEVENT
END:VCALENDAR