BEGIN:VCALENDAR
PRODID:-//punkave//apostrophe 1.x//EN
VERSION:1.0
TZ:0
BEGIN:VEVENT
CATEGORIES:MEETING
DTSTART:20111107T050000Z
DTEND:20111109T175959Z
DTSTAMP:20110808T040000Z
SUMMARY:Thanksgiving Food Drive
DESCRIPTION:The Thanksgiving Food Drive starts this week.
LOCATION:
UID:586
END:VEVENT
END:VCALENDAR