BEGIN:VCALENDAR
PRODID:-//punkave//apostrophe 1.x//EN
VERSION:1.0
TZ:0
BEGIN:VEVENT
CATEGORIES:MEETING
DTSTART:20111109T131500Z
DTEND:20111109T140000Z
DTSTAMP:20110808T040000Z
SUMMARY:Kindergarten Parent to Parent Coffee
DESCRIPTION:This is an opportunity for this year\'s K parents to meet with next year\'s K parents.
LOCATION:
UID:587
END:VEVENT
END:VCALENDAR