BEGIN:VCALENDAR
PRODID:-//punkave//apostrophe 1.x//EN
VERSION:1.0
TZ:0
BEGIN:VEVENT
CATEGORIES:MEETING
DTSTART:20111118T050000Z
DTEND:20111120T175959Z
DTSTAMP:20110808T040000Z
SUMMARY:Parent-Teacher Conferences: SCHOOL CLOSED
DESCRIPTION:School is closed for conferences, however, if you have registered there is full day child care available. If you only need care for during your conference time, you do not need to register for that complimentary service.
LOCATION:
UID:589
END:VEVENT
END:VCALENDAR