BEGIN:VCALENDAR
PRODID:-//punkave//apostrophe 1.x//EN
VERSION:1.0
TZ:0
BEGIN:VEVENT
CATEGORIES:MEETING
DTSTART:20111123T164500Z
DTEND:20111123T170000Z
DTSTAMP:20110808T040000Z
SUMMARY:Thanksgiving Holiday Begins: SCHOOL DISMISSED AT 11:45
DESCRIPTION:It\'s Pajama Day! Wear your pajamas to school! School is dismissed at 11:45, there are no afternoon programs or child care.
LOCATION:
UID:590
END:VEVENT
END:VCALENDAR