BEGIN:VCALENDAR
PRODID:-//punkave//apostrophe 1.x//EN
VERSION:1.0
TZ:0
BEGIN:VEVENT
CATEGORIES:MEETING
DTSTART:20111124T050000Z
DTEND:20111127T175959Z
DTSTAMP:20110808T040000Z
SUMMARY:Thanksgiving Holiday: SCHOOL CLOSED
DESCRIPTION:
LOCATION:
UID:591
END:VEVENT
END:VCALENDAR