BEGIN:VCALENDAR
PRODID:-//punkave//apostrophe 1.x//EN
VERSION:1.0
TZ:0
BEGIN:VEVENT
CATEGORIES:MEETING
DTSTART:20111130T050000Z
DTEND:20111217T175959Z
DTSTAMP:20111130T050000Z
SUMMARY:Pre-holiday Online Auction
DESCRIPTION:Looking for that special holiday gift? Check out the online auction! Items range from restaurant gift cards to performance and sporting event tickets. The auction will run through December 15. Place your bid today! http://www.biddingforgood.com/greenetowne/greenetowne-3
LOCATION:
UID:763
END:VEVENT
END:VCALENDAR