BEGIN:VCALENDAR
PRODID:-//punkave//apostrophe 1.x//EN
VERSION:1.0
TZ:0
BEGIN:VEVENT
CATEGORIES:MEETING
DTSTART:20111201T131500Z
DTEND:20111201T140000Z
DTSTAMP:20110819T040000Z
SUMMARY:First Thursday Coffee with Helena Grady
DESCRIPTION:Subject: Parenting Challenges Parenting is challenging for so many reasons today. Come and talk with our parent coach and child psychologist, Dr. Lisa Dissinger, on issues that you are confronting in your household. Bring your questions and challenges with you! Every First Thursday of the month, discuss a new subject in a relaxed group forum with Helena Grady, Head of School!
LOCATION:
UID:594
END:VEVENT
END:VCALENDAR