BEGIN:VCALENDAR
PRODID:-//punkave//apostrophe 1.x//EN
VERSION:1.0
TZ:0
BEGIN:VEVENT
CATEGORIES:MEETING
DTSTART:20111202T050000Z
DTEND:20111204T175959Z
DTSTAMP:20110819T040000Z
SUMMARY:Kindergarten Field Trip
DESCRIPTION:
LOCATION:
UID:595
END:VEVENT
END:VCALENDAR