BEGIN:VCALENDAR
PRODID:-//punkave//apostrophe 1.x//EN
VERSION:1.0
TZ:0
BEGIN:VEVENT
CATEGORIES:MEETING
DTSTART:20111205T050000Z
DTEND:20111207T175959Z
DTSTAMP:20110819T040000Z
SUMMARY:Holiday Toy Drive Starts
DESCRIPTION:
LOCATION:
UID:596
END:VEVENT
END:VCALENDAR