BEGIN:VCALENDAR
PRODID:-//punkave//apostrophe 1.x//EN
VERSION:1.0
TZ:0
BEGIN:VEVENT
CATEGORIES:MEETING
DTSTART:20111208T223000Z
DTEND:20111208T233000Z
DTSTAMP:20110819T040000Z
SUMMARY:Primary Parent/Child Classroom Visit for 4-6 year olds
DESCRIPTION:Parents of Kindergarten, 5s and older 4s are invited to come to the classroom with their children this evening. Don\'t forget to RSVP!
LOCATION:
UID:597
END:VEVENT
END:VCALENDAR