BEGIN:VCALENDAR
PRODID:-//punkave//apostrophe 1.x//EN
VERSION:1.0
TZ:0
BEGIN:VEVENT
CATEGORIES:MEETING
DTSTART:20111215T130000Z
DTEND:20111215T140000Z
DTSTAMP:20111209T050000Z
SUMMARY:Rabbit\'s Riddle Book Signing
DESCRIPTION:Rabbit\'s Riddle was co-written by GTS Parent Sierra Skidmore. We are happy to invite the GTS Community to a book signing!
LOCATION:
UID:783
END:VEVENT
END:VCALENDAR