BEGIN:VCALENDAR
PRODID:-//punkave//apostrophe 1.x//EN
VERSION:1.0
TZ:0
BEGIN:VEVENT
CATEGORIES:MEETING
DTSTART:20111216T050000Z
DTEND:20111218T175959Z
DTSTAMP:20110819T040000Z
SUMMARY:Kindergarten Lunch Around the World: Traditional Jewish
DESCRIPTION:
LOCATION:
UID:599
END:VEVENT
END:VCALENDAR