BEGIN:VCALENDAR
PRODID:-//punkave//apostrophe 1.x//EN
VERSION:1.0
TZ:0
BEGIN:VEVENT
CATEGORIES:MEETING
DTSTART:20111216T200000Z
DTEND:20111216T050000Z
DTSTAMP:20110819T040000Z
SUMMARY:Winter Break: School Dismisses at 3pm
DESCRIPTION:There are no afternoon classes or childcare this day.
LOCATION:
UID:600
END:VEVENT
END:VCALENDAR