BEGIN:VCALENDAR
PRODID:-//punkave//apostrophe 1.x//EN
VERSION:1.0
TZ:0
BEGIN:VEVENT
CATEGORIES:MEETING
DTSTART:20111219T050000Z
DTEND:20111225T175959Z
DTSTAMP:20110819T040000Z
SUMMARY:WINTER BREAK: SCHOOL CLOSED (Child Care with Registration)
DESCRIPTION:School is closed this week. Parents can register in advance for Vacation Care, which is open 8:30 to 5:30 Mon-Thur and 8:30 to 3pm on Friday.
LOCATION:
UID:602
END:VEVENT
END:VCALENDAR