BEGIN:VCALENDAR
PRODID:-//punkave//apostrophe 1.x//EN
VERSION:1.0
TZ:0
BEGIN:VEVENT
CATEGORIES:MEETING
DTSTART:20111226T050000Z
DTEND:20120101T175959Z
DTSTAMP:20110819T040000Z
SUMMARY:WINTER BREAK: SCHOOL CLOSED
DESCRIPTION:No childcare or classes this week.
LOCATION:
UID:603
END:VEVENT
END:VCALENDAR