BEGIN:VCALENDAR
PRODID:-//punkave//apostrophe 1.x//EN
VERSION:1.0
TZ:0
BEGIN:VEVENT
CATEGORIES:MEETING
DTSTART:20120102T050000Z
DTEND:20120104T175959Z
DTSTAMP:20110821T040000Z
SUMMARY:New Year\'s Day Observed: SCHOOL CLOSED
DESCRIPTION:No classes or childcare this day.
LOCATION:
UID:605
END:VEVENT
END:VCALENDAR