BEGIN:VCALENDAR
PRODID:-//punkave//apostrophe 1.x//EN
VERSION:1.0
TZ:0
BEGIN:VEVENT
CATEGORIES:MEETING
DTSTART:20120103T130000Z
DTEND:20120103T050000Z
DTSTAMP:20110821T040000Z
SUMMARY:Classes Resume
DESCRIPTION:
LOCATION:
UID:606
END:VEVENT
END:VCALENDAR