BEGIN:VCALENDAR
PRODID:-//punkave//apostrophe 1.x//EN
VERSION:1.0
TZ:0
BEGIN:VEVENT
CATEGORIES:MEETING
DTSTART:20120111T223000Z
DTEND:20120111T233000Z
DTSTAMP:20110821T040000Z
SUMMARY:Primary Parent/Child Classroom Visit (3-4 year olds)
DESCRIPTION:Parents of 3s and younger 4s are invited to come to the classroom with their children this evening. Don\'t forget to RSVP!
LOCATION:
UID:608
END:VEVENT
END:VCALENDAR