BEGIN:VCALENDAR
PRODID:-//punkave//apostrophe 1.x//EN
VERSION:1.0
TZ:0
BEGIN:VEVENT
CATEGORIES:MEETING
DTSTART:20120113T050000Z
DTEND:20120115T175959Z
DTSTAMP:20110821T040000Z
SUMMARY:Staff In-service:SCHOOL CLOSED
DESCRIPTION:No classes of childcare this day.
LOCATION:
UID:609
END:VEVENT
END:VCALENDAR