BEGIN:VCALENDAR
PRODID:-//punkave//apostrophe 1.x//EN
VERSION:1.0
TZ:0
BEGIN:VEVENT
CATEGORIES:MEETING
DTSTART:20120116T050000Z
DTEND:20120118T175959Z
DTSTAMP:20110821T040000Z
SUMMARY:Martin Luther King, Jr. Birthday Observed:SCHOOL CLOSED
DESCRIPTION:No classes or childcare this day.
LOCATION:
UID:611
END:VEVENT
END:VCALENDAR