BEGIN:VCALENDAR
PRODID:-//punkave//apostrophe 1.x//EN
VERSION:1.0
TZ:0
BEGIN:VEVENT
CATEGORIES:MEETING
DTSTART:20120120T050000Z
DTEND:20120122T175959Z
DTSTAMP:20110821T040000Z
SUMMARY:Kindergarten Lunch Around the World: Chinese
DESCRIPTION:
LOCATION:
UID:612
END:VEVENT
END:VCALENDAR