BEGIN:VCALENDAR
PRODID:-//punkave//apostrophe 1.x//EN
VERSION:1.0
TZ:0
BEGIN:VEVENT
CATEGORIES:MEETING
DTSTART:20120126T050000Z
DTEND:20120128T175959Z
DTSTAMP:20110821T040000Z
SUMMARY:Primary Picture Day
DESCRIPTION:It\'s Picture Day! Make sure to get to school EARLY as we will start taking pics at 9am SHARP, or before if a class is ready to go! Toddlers will take pictures tomorrow (1/27), same time!
LOCATION:
UID:613
END:VEVENT
END:VCALENDAR