BEGIN:VCALENDAR
PRODID:-//punkave//apostrophe 1.x//EN
VERSION:1.0
TZ:0
BEGIN:VEVENT
CATEGORIES:MEETING
DTSTART:20120127T050000Z
DTEND:20120129T175959Z
DTSTAMP:20110821T040000Z
SUMMARY:Toddler Picture Day
DESCRIPTION:It\'s Picture Day! Make sure to get to school EARLY as we will start taking pics at 9am SHARP, or before if a class is ready to go! Primary students took pictures pictures yesterday,1/26.
LOCATION:
UID:614
END:VEVENT
END:VCALENDAR