BEGIN:VCALENDAR
PRODID:-//punkave//apostrophe 1.x//EN
VERSION:1.0
TZ:0
BEGIN:VEVENT
CATEGORIES:MEETING
DTSTART:20120131T131500Z
DTEND:20120131T140000Z
DTSTAMP:20110821T040000Z
SUMMARY:Parent Coffee with Michelle Nowacky
DESCRIPTION:Come have coffee and refreshments with Michelle Nowacky!
LOCATION:
UID:615
END:VEVENT
END:VCALENDAR