BEGIN:VCALENDAR
PRODID:-//punkave//apostrophe 1.x//EN
VERSION:1.0
TZ:0
BEGIN:VEVENT
CATEGORIES:MEETING
DTSTART:20120201T050000Z
DTEND:20120203T175959Z
DTSTAMP:20110821T040000Z
SUMMARY:Re-Enrollment Agreements Due
DESCRIPTION:
LOCATION:
UID:616
END:VEVENT
END:VCALENDAR