BEGIN:VCALENDAR
PRODID:-//punkave//apostrophe 1.x//EN
VERSION:1.0
TZ:0
BEGIN:VEVENT
CATEGORIES:MEETING
DTSTART:20120202T131500Z
DTEND:20120202T140000Z
DTSTAMP:20110821T040000Z
SUMMARY:Coffee with Heather Sundquist
DESCRIPTION:Come have coffee and refreshments with Heather Sundquist!
LOCATION:
UID:617
END:VEVENT
END:VCALENDAR