BEGIN:VCALENDAR
PRODID:-//punkave//apostrophe 1.x//EN
VERSION:1.0
TZ:0
BEGIN:VEVENT
CATEGORIES:MEETING
DTSTART:20120203T050000Z
DTEND:20120205T175959Z
DTSTAMP:20110821T040000Z
SUMMARY:Kindergarten Lunch Around the World:Latin American
DESCRIPTION:
LOCATION:
UID:618
END:VEVENT
END:VCALENDAR