BEGIN:VCALENDAR
PRODID:-//punkave//apostrophe 1.x//EN
VERSION:1.0
TZ:0
BEGIN:VEVENT
CATEGORIES:MEETING
DTSTART:20120210T050000Z
DTEND:20120212T175959Z
DTSTAMP:20110821T040000Z
SUMMARY:Storyteller for Kindergarteners
DESCRIPTION:
LOCATION:
UID:619
END:VEVENT
END:VCALENDAR