BEGIN:VCALENDAR
PRODID:-//punkave//apostrophe 1.x//EN
VERSION:1.0
TZ:0
BEGIN:VEVENT
CATEGORIES:MEETING
DTSTART:20120214T223000Z
DTEND:20120215T233000Z
DTSTAMP:20110821T040000Z
SUMMARY:Toddler House Parent/Child Classroom Visit
DESCRIPTION:Tuesday and Wednesday, 2/14 and 2/15, Toddlers can bring their parents to class and show off their work! Please RSVP. (PLEASE NOTE: This is a change in date from published calendars.)
LOCATION:
UID:620
END:VEVENT
END:VCALENDAR