BEGIN:VCALENDAR
PRODID:-//punkave//apostrophe 1.x//EN
VERSION:1.0
TZ:0
BEGIN:VEVENT
CATEGORIES:MEETING
DTSTART:20120220T050000Z
DTEND:20120222T175959Z
DTSTAMP:20110821T040000Z
SUMMARY:President\'s Day: SCHOOL CLOSED
DESCRIPTION:No classes or childcare this day.
LOCATION:
UID:623
END:VEVENT
END:VCALENDAR