BEGIN:VCALENDAR
PRODID:-//punkave//apostrophe 1.x//EN
VERSION:1.0
TZ:0
BEGIN:VEVENT
CATEGORIES:MEETING
DTSTART:20120222T223000Z
DTEND:20120222T050000Z
DTSTAMP:20110821T040000Z
SUMMARY:Applying to First Grade Workshop for Parents
DESCRIPTION:Parent Education night with a panel that helps next year\'s K parents look to applying for First Grade
LOCATION:
UID:624
END:VEVENT
END:VCALENDAR