BEGIN:VCALENDAR
PRODID:-//punkave//apostrophe 1.x//EN
VERSION:1.0
TZ:0
BEGIN:VEVENT
CATEGORIES:MEETING
DTSTART:20120224T181500Z
DTEND:20120224T190000Z
DTSTAMP:20120105T050000Z
SUMMARY:Kindergarten Sushi Making
DESCRIPTION:
LOCATION:
UID:813
END:VEVENT
END:VCALENDAR