BEGIN:VCALENDAR
PRODID:-//punkave//apostrophe 1.x//EN
VERSION:1.0
TZ:0
BEGIN:VEVENT
CATEGORIES:MEETING
DTSTART:20120228T131500Z
DTEND:20120228T140000Z
DTSTAMP:20110821T040000Z
SUMMARY:Parent Coffee with Ms. Matsukevich
DESCRIPTION:Come have coffee and refreshments with Anna Matsukevich!
LOCATION:
UID:625
END:VEVENT
END:VCALENDAR