BEGIN:VCALENDAR
PRODID:-//punkave//apostrophe 1.x//EN
VERSION:1.0
TZ:0
BEGIN:VEVENT
CATEGORIES:MEETING
DTSTART:20120304T050000Z
DTEND:20120306T175959Z
DTSTAMP:20110821T040000Z
SUMMARY:Greene Towne School Annual Live and Silent Auction
DESCRIPTION:
LOCATION:
UID:627
END:VEVENT
END:VCALENDAR