BEGIN:VCALENDAR
PRODID:-//punkave//apostrophe 1.x//EN
VERSION:1.0
TZ:0
BEGIN:VEVENT
CATEGORIES:MEETING
DTSTART:20120305T050000Z
DTEND:20120307T175959Z
DTSTAMP:20110821T040000Z
SUMMARY:Kindergarten Field Trip
DESCRIPTION:
LOCATION:
UID:628
END:VEVENT
END:VCALENDAR