BEGIN:VCALENDAR
PRODID:-//punkave//apostrophe 1.x//EN
VERSION:1.0
TZ:0
BEGIN:VEVENT
CATEGORIES:MEETING
DTSTART:20120306T131500Z
DTEND:20120306T140000Z
DTSTAMP:20110821T040000Z
SUMMARY:Parent Coffee with Mrs. Pysher
DESCRIPTION:Come have coffee and refreshments with Michelle Pysher!
LOCATION:
UID:629
END:VEVENT
END:VCALENDAR