BEGIN:VCALENDAR
PRODID:-//punkave//apostrophe 1.x//EN
VERSION:1.0
TZ:0
BEGIN:VEVENT
CATEGORIES:MEETING
DTSTART:20120308T131500Z
DTEND:20120308T140000Z
DTSTAMP:20110821T040000Z
SUMMARY:Parent Coffee with Ms. Coulter
DESCRIPTION:Come have coffee and refreshments with Jennifer Coulter!
LOCATION:
UID:630
END:VEVENT
END:VCALENDAR