BEGIN:VCALENDAR
PRODID:-//punkave//apostrophe 1.x//EN
VERSION:1.0
TZ:0
BEGIN:VEVENT
CATEGORIES:MEETING
DTSTART:20120312T220000Z
DTEND:20120313T010000Z
DTSTAMP:20110821T040000Z
SUMMARY:Board Meeting
DESCRIPTION:Board meetings are always open to GTS parents.
LOCATION:
UID:632
END:VEVENT
END:VCALENDAR